BEGIN:VCALENDAR
VERSION:2.0
PRODID:-//Jupiter Inlet Lighthouse &amp; Museum - ECPv5.16.4//NONSGML v1.0//EN
CALSCALE:GREGORIAN
METHOD:PUBLISH
X-WR-CALNAME:Jupiter Inlet Lighthouse &amp; Museum
X-ORIGINAL-URL:https://www.jupiterlighthouse.org
X-WR-CALDESC:Events for Jupiter Inlet Lighthouse &amp; Museum
BEGIN:VTIMEZONE
TZID:America/New_York
BEGIN:DAYLIGHT
TZOFFSETFROM:-0500
TZOFFSETTO:-0400
TZNAME:EDT
DTSTART:20240310T070000
END:DAYLIGHT
BEGIN:STANDARD
TZOFFSETFROM:-0400
TZOFFSETTO:-0500
TZNAME:EST
DTSTART:20241103T060000
END:STANDARD
END:VTIMEZONE
BEGIN:VEVENT
DTSTART;TZID=America/New_York:20241214T181500
DTEND;TZID=America/New_York:20241214T191500
DTSTAMP:20260422T025510
CREATED:20241025T100725Z
LAST-MODIFIED:20241126T214558Z
UID:27005-1734200100-1734203700@www.jupiterlighthouse.org
SUMMARY:Canceled: Lighthouse Moonrise Tour
DESCRIPTION:Please Note: Our Lighthouse Moonrise Tour is canceled this month as we prepare for our Holiday Extravaganza—an unforgettable celebration filled with holiday cheer and lighthouse magic! \nWe appreciate your understanding and look forward to seeing you at the Holiday Extravaganza or a future Moonrise Tour! Stay tuned for more exciting events at the Jupiter Inlet Lighthouse & Museum. \n\n\n\n\n\n\nLighthouse Moonrise Tour: 105 Steps to the Best Views in Palm Beach County!\nEmbark on a memorable date night by climbing 105 steps to catch the best views in Palm Beach County during our Lighthouse Moonrise Tour! Explore fascinating history while enjoying the breeze on this fabulous adventure. \nSecure Your Lighthouse Moonrise Tour Tickets:\n\n$25 per person\n$20 for Lighthouse Members\n\nTickets are limited\, so secure your spot by purchasing online here! \nInformation:\n\nChildren must be at least 48” tall and accompanied by an adult to climb the Lighthouse. Please view our Safety & Accessibility page for more information.\nTours are weather permitting. In case of rain\, the tour will be rescheduled.\nTickets are non-refundable and not for resale. Only valid if purchased directly from our website.\nApproximate duration: 60 minutes. Please arrive 15 minutes prior for check-in.\n\nSpecial Treat:\nEnjoy a special treat…you’ll be hungry after that climb! \nAs a token of our appreciation\, all paid attendees will receive a free Tommy Bahama voucher at the admissions desk for a signature appetizer\, drink\, or dessert at their Jupiter – Harbourside restaurant. Vouchers are not redeemable for cash. \nJoin us for an unforgettable evening and thank our sponsors for making it possible! \nImage: Captain Kimo \n  \n  \n  \n  \n 
URL:https://www.jupiterlighthouse.org/calendar/moonrise-tour-12-12-24-2/
LOCATION:Jupiter Inlet Lighthouse & Museum\, 500 Captain Armour's Way\, Jupiter\, FL\, 33469\, United States
CATEGORIES:Sunset and Moonrise Tours
ORGANIZER;CN="Jupiter%20Inlet%20Lighthouse%20%26%20Museum":MAILTO:marketing@jupiterlighthouse.org
END:VEVENT
END:VCALENDAR