BEGIN:VCALENDAR
VERSION:2.0
PRODID:-//Jupiter Inlet Lighthouse &amp; Museum - ECPv5.16.4//NONSGML v1.0//EN
CALSCALE:GREGORIAN
METHOD:PUBLISH
X-WR-CALNAME:Jupiter Inlet Lighthouse &amp; Museum
X-ORIGINAL-URL:https://www.jupiterlighthouse.org
X-WR-CALDESC:Events for Jupiter Inlet Lighthouse &amp; Museum
BEGIN:VTIMEZONE
TZID:America/New_York
BEGIN:DAYLIGHT
TZOFFSETFROM:-0500
TZOFFSETTO:-0400
TZNAME:EDT
DTSTART:20240310T070000
END:DAYLIGHT
BEGIN:STANDARD
TZOFFSETFROM:-0400
TZOFFSETTO:-0500
TZNAME:EST
DTSTART:20241103T060000
END:STANDARD
END:VTIMEZONE
BEGIN:VEVENT
DTSTART;TZID=America/New_York:20240125T171500
DTEND;TZID=America/New_York:20240125T181500
DTSTAMP:20260421T083458
CREATED:20231228T202213Z
LAST-MODIFIED:20231228T202213Z
UID:23730-1706202900-1706206500@www.jupiterlighthouse.org
SUMMARY:Lighthouse Moonrise Tour
DESCRIPTION:Lighthouse Moonrise Tour\nClimb 105 steps and catch the best views in Palm Beach County on our Lighthouse Moonrise Tour! Hear amazing history on your breezy adventure; this is sure to make a fabulous date night. \nTickets:\n$25 per person\n$20 for Lighthouse Members\nTickets are limited – please purchase online here to reserve your spot! \nInformation:\nChildren must be at least 48” tall and accompanied by an adult to climb the Lighthouse.\nTours are weather permitting. In the event of rain\, the tour will be rescheduled.\nTickets are not refundable and not for re-sale. Tickets are only valid if purchased directly from our website.\nThis tour is approximately 60 minutes; please arrive 15 minutes prior for check-in. \nNotice:\nThe Lighthouse lens may be wrapped for protection during the US 1 Bridge construction project. A temporary light is installed as an aid to mariners. Please visit us here for further information. \nPlease join us in thanking our sponsors:\nEnjoy a special treat…you’ll be hungry after that climb!\nAll paid attendees to the Lighthouse Moonrise Tour will receive a free Tommy Bahama voucher good for a signature appetizer\, signature drink\, or signature dessert at their Jupiter – Harbourside restaurant. Vouchers will be handed out at the admissions desk the night of your tour and are not redeemable for cash. \nImage: Captain Kimo \n  \n  \n  \n  \n 
URL:https://www.jupiterlighthouse.org/calendar/lighthouse-moonrise-tour-january-25-2024/
LOCATION:Jupiter Inlet Lighthouse & Museum\, 500 Captain Armour's Way\, Jupiter\, FL\, 33469\, United States
CATEGORIES:Sunset and Moonrise Tours
ORGANIZER;CN="Jupiter%20Inlet%20Lighthouse%20%26%20Museum":MAILTO:marketing@jupiterlighthouse.org
END:VEVENT
END:VCALENDAR