BEGIN:VCALENDAR
VERSION:2.0
PRODID:-//Jupiter Inlet Lighthouse &amp; Museum - ECPv5.16.4//NONSGML v1.0//EN
CALSCALE:GREGORIAN
METHOD:PUBLISH
X-WR-CALNAME:Jupiter Inlet Lighthouse &amp; Museum
X-ORIGINAL-URL:https://www.jupiterlighthouse.org
X-WR-CALDESC:Events for Jupiter Inlet Lighthouse &amp; Museum
BEGIN:VTIMEZONE
TZID:America/New_York
BEGIN:DAYLIGHT
TZOFFSETFROM:-0500
TZOFFSETTO:-0400
TZNAME:EDT
DTSTART:20260308T070000
END:DAYLIGHT
BEGIN:STANDARD
TZOFFSETFROM:-0400
TZOFFSETTO:-0500
TZNAME:EST
DTSTART:20261101T060000
END:STANDARD
END:VTIMEZONE
BEGIN:VEVENT
DTSTART;TZID=America/New_York:20260131T100000
DTEND;TZID=America/New_York:20260131T160000
DTSTAMP:20260422T094634
CREATED:20260114T163454Z
LAST-MODIFIED:20260115T205627Z
UID:31503-1769853600-1769875200@www.jupiterlighthouse.org
SUMMARY:Jupiter History Festival
DESCRIPTION:The Jupiter Inlet Lighthouse & Museum is proud to announce the Jupiter History Festival:\nA new\, immersive\, all-ages community celebration bringing together local history and the broader American story in honor of America’s 250th anniversary. \nFestival highlights will include:\n\nLiving history reenactors from multiple periods across American history\nHands-on children’s activities and interactive demonstrations\nEducational history stations exploring local and national stories\nEnvironmental and river heritage programming showcasing Indigenous\, pioneer\, and maritime history\nStorytellers\, historians\, and cultural partners from across the region\n\nThe Jupiter History Festival is designed to connect families and history-lovers with engaging experiences that illuminate how our local history fits into the broader American stories! \nSecure Your Tickets Here!
URL:https://www.jupiterlighthouse.org/calendar/jupiter-history-festival/
LOCATION:Jupiter Inlet Lighthouse & Museum\, 500 Captain Armour's Way\, Jupiter\, FL\, 33469\, United States
END:VEVENT
END:VCALENDAR