BEGIN:VCALENDAR
VERSION:2.0
PRODID:-//Jupiter Inlet Lighthouse &amp; Museum - ECPv5.16.4//NONSGML v1.0//EN
CALSCALE:GREGORIAN
METHOD:PUBLISH
X-WR-CALNAME:Jupiter Inlet Lighthouse &amp; Museum
X-ORIGINAL-URL:https://www.jupiterlighthouse.org
X-WR-CALDESC:Events for Jupiter Inlet Lighthouse &amp; Museum
BEGIN:VTIMEZONE
TZID:America/New_York
BEGIN:DAYLIGHT
TZOFFSETFROM:-0500
TZOFFSETTO:-0400
TZNAME:EDT
DTSTART:20240310T070000
END:DAYLIGHT
BEGIN:STANDARD
TZOFFSETFROM:-0400
TZOFFSETTO:-0500
TZNAME:EST
DTSTART:20241103T060000
END:STANDARD
END:VTIMEZONE
BEGIN:VEVENT
DTSTART;TZID=America/New_York:20240306T093000
DTEND;TZID=America/New_York:20240306T103000
DTSTAMP:20260422T070405
CREATED:20240125T183942Z
LAST-MODIFIED:20240125T185039Z
UID:24147-1709717400-1709721000@www.jupiterlighthouse.org
SUMMARY:History Presentation
DESCRIPTION:Step Back in Time with Historian Josh Liller!\nAn Enlightening History Presentation:\nSpencer Stereoviews – Exploring South Florida’s 19th Century Through Rare Photos!\nEmbark on a visual journey through the 19th century in South Florida as LRHS Historian Josh Liller presents the earliest known photos of Palm Beach County. Join us as we delve into the remarkable work of lighthouse keepers Fredrick Whitehead and Melville Spencer\, who captured historic images between 1876 and 1884. \nHighlights of the History Presentation: \n\nWitness the rare photographs depicting the lighthouse\, steamboats\, tourists\, pioneers\, wildlife\, and the pristine Loxahatchee River.\nLearn about the significance of these images and their preservation as part of the HSPBC Spencer-Peebles Collection.\nExplore the Gladwin Family Collection\, home to the largest known assemblage of these captivating “stereoviews.”\n\nDon’t miss this opportunity to see examples of these remarkable images and gain insights into the history and natural beauty they chronicle. \nTickets: \n\nAdmission is FREE\, but RSVP is required due to limited capacity. Please click here to reserve your seat.\n\nEvent Details: \n\nDate: Wednesday\, March 6\, 2024\nTime: 9:30am – 10:30am\nLocation: Blowing Rocks Preserve\n\n 
URL:https://www.jupiterlighthouse.org/calendar/history-presentation-3-6-24/
LOCATION:Blowing Rocks Preserve\, 574 S Beach Rd\, Hobe Sound\, FL\, 33455\, United States
CATEGORIES:Lecture
END:VEVENT
END:VCALENDAR