BEGIN:VCALENDAR
VERSION:2.0
PRODID:-//Jupiter Inlet Lighthouse &amp; Museum - ECPv5.16.4//NONSGML v1.0//EN
CALSCALE:GREGORIAN
METHOD:PUBLISH
X-WR-CALNAME:Jupiter Inlet Lighthouse &amp; Museum
X-ORIGINAL-URL:https://www.jupiterlighthouse.org
X-WR-CALDESC:Events for Jupiter Inlet Lighthouse &amp; Museum
BEGIN:VTIMEZONE
TZID:America/New_York
BEGIN:DAYLIGHT
TZOFFSETFROM:-0500
TZOFFSETTO:-0400
TZNAME:EDT
DTSTART:20240310T070000
END:DAYLIGHT
BEGIN:STANDARD
TZOFFSETFROM:-0400
TZOFFSETTO:-0500
TZNAME:EST
DTSTART:20241103T060000
END:STANDARD
END:VTIMEZONE
BEGIN:VEVENT
DTSTART;TZID=America/New_York:20240413T180000
DTEND;TZID=America/New_York:20240413T220000
DTSTAMP:20260423T044640
CREATED:20240319T211843Z
LAST-MODIFIED:20240413T172618Z
UID:24627-1713031200-1713045600@www.jupiterlighthouse.org
SUMMARY:10th Annual Wild & Scenic Film Festival
DESCRIPTION:Wild & Scenic Film Festival Tickets Are Now on Sale!\nSat.\, Apr. 13th\, 2024\n6:00pm – 10:00pm\nFilms – Food & Beverages – Music & More! \nJoin us as we host our wildly popular Wild & Scenic Film Festival – On Tour! This festival celebrates the beauty and wonder of our natural world and inspires audiences globally to take action. Pull up your lawn chair and join us for adventure & environmental short films on the big screen at the waterfront Jupiter Inlet Lighthouse! We are thrilled to bring this renown festival to our community for a tenth year. \nTicket Information:\nClick here to purchase your tickets before they’re gone! \nParticipating Organizations:\nWe’re welcoming back local organizations who love to protect our wildlife and environment. They’ll be on hand to share information about how you can get involved and make a difference! \nInterested in having your organization participate? Click here to learn more! \nThank You to Our Sponsors!\nRiver Sponsors\nThe Scout Guide\nBrian Marketing Group\nManatee Lagoon – An FPL Eco-Discovery Center \nOcean Sponsors\nSportfish Outfitters\nJupiter Dive Center\nBlueline Surf and Paddle\nGuanabanas\nMichael Ivancevic – Illustrated Properties\nCosta \nNational Partners\nAmerican Rivers\nEarthjustice\nSierra Nevada Brewing Company\nNia Impact Capital\nHHMI Tangled Bank Studios \nInterested in sponsorship? Click here to learn more! \n \n \nThis activity is conducted under permit from the Bureau of Land Management (BLM) and occurs all or in part on public lands administered by the BLM within the Jupiter Inlet Lighthouse Outstanding Natural Area.
URL:https://www.jupiterlighthouse.org/calendar/film-festival-4-13-24/
LOCATION:Jupiter Inlet Lighthouse & Museum\, 500 Captain Armour's Way\, Jupiter\, FL\, 33469\, United States
CATEGORIES:Special Events
ORGANIZER;CN="Jupiter%20Inlet%20Lighthouse%20%26%20Museum":MAILTO:marketing@jupiterlighthouse.org
END:VEVENT
END:VCALENDAR