BEGIN:VCALENDAR
VERSION:2.0
PRODID:-//Jupiter Inlet Lighthouse &amp; Museum - ECPv5.16.4//NONSGML v1.0//EN
CALSCALE:GREGORIAN
METHOD:PUBLISH
X-WR-CALNAME:Jupiter Inlet Lighthouse &amp; Museum
X-ORIGINAL-URL:https://www.jupiterlighthouse.org
X-WR-CALDESC:Events for Jupiter Inlet Lighthouse &amp; Museum
BEGIN:VTIMEZONE
TZID:America/New_York
BEGIN:DAYLIGHT
TZOFFSETFROM:-0500
TZOFFSETTO:-0400
TZNAME:EDT
DTSTART:20240310T070000
END:DAYLIGHT
BEGIN:STANDARD
TZOFFSETFROM:-0400
TZOFFSETTO:-0500
TZNAME:EST
DTSTART:20241103T060000
END:STANDARD
END:VTIMEZONE
BEGIN:VEVENT
DTSTART;TZID=America/New_York:20240502T100000
DTEND;TZID=America/New_York:20240502T110000
DTSTAMP:20260422T110639
CREATED:20240418T220604Z
LAST-MODIFIED:20240505T165151Z
UID:24982-1714644000-1714647600@www.jupiterlighthouse.org
SUMMARY:Lighthouse Homeschool Morning
DESCRIPTION:Engage in Educational Fun at Lighthouse Homeschool Morning!\nJoin us for Lighthouse Homeschool Morning\, an enriching hands-on learning program tailored for homeschool groups in Florida! Our engaging sessions offer students the opportunity to explore activity stations on the Lighthouse grounds\, each focusing on a unique theme. \nWhat to Expect:\n\nDive into social studies\, English language arts\, science\, and art-making skills through a blend of self-guided and staff-guided activities.\nAll activities align with the Florida state curriculum\, ensuring a valuable educational experience.\nFamilies are welcome to explore the Lighthouse and exhibits at their own pace\, in addition to participating in the guided activities.\n\nRegister for Lighthouse Homeschool Morning:\n\n10:00am – 11:30am session\n11:30am – 1:00pm session\n\nPre-registration is required 24 hours prior to program start time. \nRegistration Details:\n\nTimed entry with a maximum of 50 participants per session.\nCost: $5.00 per person; free for children aged 5 and under.\nPre-registration is required online.\n\nImportant Notes:\n\nParticipants must be at least 48” tall to climb the Lighthouse. Those below this height can still enjoy all crafts and activities!\nChildren must be accompanied by adults throughout their visit. Adults are expected to work with students to complete each activity.\nUpon arrival\, check in at the front entrance to receive admission stickers and materials.\n\nPlan Your Visit:\nExplore our hours of operation and make the most of your time with us! Immerse your family in a fun and educational experience at Lighthouse Homeschool Morning – where learning comes to life!
URL:https://www.jupiterlighthouse.org/calendar/lighthouse-homeschool-morning-2/
LOCATION:Jupiter Inlet Lighthouse & Museum\, 500 Captain Armour's Way\, Jupiter\, FL\, 33469\, United States
CATEGORIES:Lighthouse Homeschool Mornings
ORGANIZER;CN="Jupiter%20Inlet%20Lighthouse%20%26%20Museum":MAILTO:marketing@jupiterlighthouse.org
END:VEVENT
BEGIN:VEVENT
DTSTART;TZID=America/New_York:20240502T113000
DTEND;TZID=America/New_York:20240502T123000
DTSTAMP:20260422T110639
CREATED:20240418T220602Z
LAST-MODIFIED:20240505T165103Z
UID:24983-1714649400-1714653000@www.jupiterlighthouse.org
SUMMARY:Lighthouse Homeschool Morning
DESCRIPTION:Engage in Educational Fun at Lighthouse Homeschool Morning!\nJoin us for Lighthouse Homeschool Morning\, an enriching hands-on learning program tailored for homeschool groups in Florida! Our engaging sessions offer students the opportunity to explore activity stations on the Lighthouse grounds\, each focusing on a unique theme. \nWhat to Expect:\n\nDive into social studies\, English language arts\, science\, and art-making skills through a blend of self-guided and staff-guided activities.\nAll activities align with the Florida state curriculum\, ensuring a valuable educational experience.\nFamilies are welcome to explore the Lighthouse and exhibits at their own pace\, in addition to participating in the guided activities.\n\nRegister for Lighthouse Homeschool Morning:\n\n10:00am – 11:30am session\n11:30am – 1:00pm session\n\nPre-registration is required 24 hours prior to program start time. \nRegistration Details:\n\nTimed entry with a maximum of 50 participants per session.\nCost: $5.00 per person; free for children aged 5 and under.\nPre-registration is required online.\n\nImportant Notes:\n\nParticipants must be at least 48” tall to climb the Lighthouse. Those below this height can still enjoy all crafts and activities!\nChildren must be accompanied by adults throughout their visit. Adults are expected to work with students to complete each activity.\nUpon arrival\, check in at the front entrance to receive admission stickers and materials.\n\nPlan Your Visit:\nExplore our hours of operation and make the most of your time with us! Immerse your family in a fun and educational experience at Lighthouse Homeschool Morning – where learning comes to life!
URL:https://www.jupiterlighthouse.org/calendar/lighthouse-homeschool-morning/
LOCATION:Jupiter Inlet Lighthouse & Museum\, 500 Captain Armour's Way\, Jupiter\, FL\, 33469\, United States
CATEGORIES:Lighthouse Homeschool Mornings
ORGANIZER;CN="Jupiter%20Inlet%20Lighthouse%20%26%20Museum":MAILTO:marketing@jupiterlighthouse.org
END:VEVENT
END:VCALENDAR