BEGIN:VCALENDAR
VERSION:2.0
PRODID:-//Jupiter Inlet Lighthouse &amp; Museum - ECPv5.16.4//NONSGML v1.0//EN
CALSCALE:GREGORIAN
METHOD:PUBLISH
X-WR-CALNAME:Jupiter Inlet Lighthouse &amp; Museum
X-ORIGINAL-URL:https://www.jupiterlighthouse.org
X-WR-CALDESC:Events for Jupiter Inlet Lighthouse &amp; Museum
BEGIN:VTIMEZONE
TZID:America/New_York
BEGIN:DAYLIGHT
TZOFFSETFROM:-0500
TZOFFSETTO:-0400
TZNAME:EDT
DTSTART:20240310T070000
END:DAYLIGHT
BEGIN:STANDARD
TZOFFSETFROM:-0400
TZOFFSETTO:-0500
TZNAME:EST
DTSTART:20241103T060000
END:STANDARD
END:VTIMEZONE
BEGIN:VEVENT
DTSTART;TZID=America/New_York:20240214T130000
DTEND;TZID=America/New_York:20240214T140000
DTSTAMP:20260422T060440
CREATED:20240113T031721Z
LAST-MODIFIED:20240113T031721Z
UID:23883-1707915600-1707919200@www.jupiterlighthouse.org
SUMMARY:Five Flags Over Jupiter Inlet Lighthouse Tour
DESCRIPTION:Explore the Five Flags Over Jupiter Inlet Lighthouse on our Guided Tour!\nImmerse yourself in the military history of Jupiter Inlet Lighthouse & Museum with our Five Flags Over Jupiter Inlet Lighthouse guided tour! \nEach of the five branches of the United States Armed Forces has played a crucial role in the lighthouse’s 150-year legacy. Uncover the story of the U.S. Army’s construction of the Jupiter Inlet Lighthouse just before the Civil War\, delve into the history of a WWII naval building\, and hear the personal accounts of Coast Guard keepers. \nSecure Your Spot on Five Flags Over Jupiter Inlet Lighthouse:\nEnsure your spot by registering online – we highly recommend online registration as space is limited to 20 participants. Alternatively\, register in person at the Gift Shop (space permitting). Secure your tickets here! \nTicket Information:\nThis insightful tour is complimentary with the purchase of general admission: \n\n$12 for adults\n$10 for seniors & veterans\n$6 for children aged 6-18\nFree for children 5 & under\, Lighthouse members\, & active-duty US military.\n\nNote: Children must be at least 48″ tall to climb the Lighthouse. \nPlan Your Visit:\nExplore our hours of operation and make the most of your time with us! Immerse yourself in the captivating history of Jupiter Inlet Lighthouse & Museum.
URL:https://www.jupiterlighthouse.org/calendar/five-flags-2-14-24/
LOCATION:Jupiter Inlet Lighthouse & Museum\, 500 Captain Armour's Way\, Jupiter\, FL\, 33469\, United States
CATEGORIES:Guided Tour
ORGANIZER;CN="Jupiter%20Inlet%20Lighthouse%20%26%20Museum":MAILTO:marketing@jupiterlighthouse.org
END:VEVENT
BEGIN:VEVENT
DTSTART;TZID=America/New_York:20240214T170000
DTEND;TZID=America/New_York:20240214T190000
DTSTAMP:20260422T060440
CREATED:20240115T184010Z
LAST-MODIFIED:20240115T184126Z
UID:23953-1707930000-1707937200@www.jupiterlighthouse.org
SUMMARY:Valentine's Day Sunset Tour
DESCRIPTION:Introducing the Ultimate Valentine’s Day Sunset Experience!\nEmbark on a Memorable Journey with Our Lighthouse Sunset Tour\nImmerse yourself in the magic of love as you ascend 105 steps to the pinnacle of the historic Jupiter Inlet Lighthouse. Our exclusive Lighthouse Sunset Tour is the perfect way to celebrate Valentine’s Day with breathtaking views and a touch of history. \nSecure Your Spot for the Romantic Adventure:\n\n$100 per couple\nTickets are extremely limited\, so secure your spot by purchasing online here!\n\nEnchanting Moments Await You:\nStrike a pose with your date in front of the lighthouse for a complimentary photo\, experience a romantic sunset\, and toast a glass of champagne with your Valentine under the Ficus tree! \n\nComplimentary photos are taken by a professional photographer and emailed to each couple after the event. What a picture-perfect way to capture the moment!\nEnjoy a refreshing glass of champagne under the stars after your tour of the Lighthouse.\nTake home a box of special Valentine’s Day-themed “First-Order Lighthouse Fudge!”\nAs a token of our appreciation\, each couple will receive a $50 voucher to the spectacular Lucky Shuck at Charlie & Joe’s on Love Street. An extra touch of sweetness to make your Valentine’s Day memorable!\n\nPlease Note:\n\nTours are weather permitting. In case of rain\, the tour will be cancelled.\nTickets are only refundable in the event of a weather cancellation. Tickets are otherwise non-refundable and not for resale. Tickets are only valid if purchased directly from our website.\nApproximate duration: 2 hours. Please arrive 15 minutes prior for check-in.\nPlease visit our Safety & Accessibility page for more information about the climb.
URL:https://www.jupiterlighthouse.org/calendar/sunset-tour-2-14-24/
LOCATION:Jupiter Inlet Lighthouse & Museum\, 500 Captain Armour's Way\, Jupiter\, FL\, 33469\, United States
CATEGORIES:Sunset and Moonrise Tours
ORGANIZER;CN="Jupiter%20Inlet%20Lighthouse%20%26%20Museum":MAILTO:marketing@jupiterlighthouse.org
END:VEVENT
END:VCALENDAR